BEGIN:VCALENDAR
VERSION:2.0
PRODID:-//LTC Pharmacy Summit - ECPv6.15.20//NONSGML v1.0//EN
CALSCALE:GREGORIAN
METHOD:PUBLISH
X-WR-CALNAME:LTC Pharmacy Summit
X-ORIGINAL-URL:https://ltcpharmacysummit.com
X-WR-CALDESC:Events for LTC Pharmacy Summit
REFRESH-INTERVAL;VALUE=DURATION:PT1H
X-Robots-Tag:noindex
X-PUBLISHED-TTL:PT1H
BEGIN:VTIMEZONE
TZID:America/Los_Angeles
BEGIN:DAYLIGHT
TZOFFSETFROM:-0800
TZOFFSETTO:-0700
TZNAME:PDT
DTSTART:20250309T100000
END:DAYLIGHT
BEGIN:STANDARD
TZOFFSETFROM:-0700
TZOFFSETTO:-0800
TZNAME:PST
DTSTART:20251102T090000
END:STANDARD
BEGIN:DAYLIGHT
TZOFFSETFROM:-0800
TZOFFSETTO:-0700
TZNAME:PDT
DTSTART:20260308T100000
END:DAYLIGHT
BEGIN:STANDARD
TZOFFSETFROM:-0700
TZOFFSETTO:-0800
TZNAME:PST
DTSTART:20261101T090000
END:STANDARD
BEGIN:DAYLIGHT
TZOFFSETFROM:-0800
TZOFFSETTO:-0700
TZNAME:PDT
DTSTART:20270314T100000
END:DAYLIGHT
BEGIN:STANDARD
TZOFFSETFROM:-0700
TZOFFSETTO:-0800
TZNAME:PST
DTSTART:20271107T090000
END:STANDARD
END:VTIMEZONE
BEGIN:VEVENT
DTSTART;TZID=America/Los_Angeles:20260915T133000
DTEND;TZID=America/Los_Angeles:20260915T183000
DTSTAMP:20260422T092824
CREATED:20260310T204209Z
LAST-MODIFIED:20260310T204209Z
UID:243275-1789479000-1789497000@ltcpharmacysummit.com
SUMMARY:5th Annual Charity Golf Tournament Benefiting Friends of Long-Term Care
DESCRIPTION:Join us in making a positive impact on the LTC community by supporting “Friends of Long-Term Care” at the 2026 SPS Health Charity Golf Tournament. This exciting event combines the fun of golf with the opportunity to give back to the industry we have all been involved in for many years. By participating in or sponsoring the tournament\, you are directly contributing to the success of ASCP Foundation’s charitable initiatives\, which aim to benefit families in need that work in the Long Term Care space.
URL:https://ltcpharmacysummit.com/event/2026-golf-tournament/
LOCATION:Bali Hai Golf Club\, 5160 S. Las Vegas Blvd\, Las Vegas\, NV\, 89119\, United States
CATEGORIES:2026 LTC Pharmacy Summit
END:VEVENT
BEGIN:VEVENT
DTSTART;TZID=America/Los_Angeles:20260916T140000
DTEND;TZID=America/Los_Angeles:20260916T150000
DTSTAMP:20260422T092824
CREATED:20260310T202713Z
LAST-MODIFIED:20260310T203836Z
UID:243267-1789567200-1789570800@ltcpharmacysummit.com
SUMMARY:Afternoon Product Theater
DESCRIPTION:Hosted by leading pharmaceutical manufacturers\, Product Theater sessions offer timely education on therapies shaping the long‑term care landscape. Attendees will gain clinical insights\, updates on emerging treatments\, and a deeper understanding of drug innovations designed to support patient outcomes in post‑acute and long‑term care settings. Lite bites will be served
URL:https://ltcpharmacysummit.com/event/2026-afternoon-product-theater/
LOCATION:Aria Resort & Casino\, 3730 South Las Vegas Boulevard\, Las Vegas\, NV\, 89158\, United States
CATEGORIES:2026 LTC Pharmacy Summit
END:VEVENT
BEGIN:VEVENT
DTSTART;TZID=America/Los_Angeles:20260916T153000
DTEND;TZID=America/Los_Angeles:20260916T160000
DTSTAMP:20260422T092824
CREATED:20260310T205415Z
LAST-MODIFIED:20260310T205415Z
UID:243277-1789572600-1789574400@ltcpharmacysummit.com
SUMMARY:Welcome and Opening Session
DESCRIPTION:Presented by Neil Bansal\, Chief Executive Officer\, SPS Health \nKick off the conference with our opening session from SPS Health CEO Neil Bansal. This session will set the stage for the event\, highlighting key themes\, industry insights\, and what attendees can expect from the Summit.
URL:https://ltcpharmacysummit.com/event/2026-neil-opening-session/
LOCATION:Aria Resort & Casino\, 3730 South Las Vegas Boulevard\, Las Vegas\, NV\, 89158\, United States
CATEGORIES:2026 LTC Pharmacy Summit
END:VEVENT
BEGIN:VEVENT
DTSTART;TZID=America/Los_Angeles:20260917T080000
DTEND;TZID=America/Los_Angeles:20260917T090000
DTSTAMP:20260422T092824
CREATED:20260310T203803Z
LAST-MODIFIED:20260310T203803Z
UID:243273-1789632000-1789635600@ltcpharmacysummit.com
SUMMARY:Breakfast Product Theater
DESCRIPTION:Hosted by leading pharmaceutical manufacturers\, Product Theater sessions offer timely education on therapies shaping the long‑term care landscape. Attendees will gain clinical insights\, updates on emerging treatments\, and a deeper understanding of drug innovations designed to support patient outcomes in post‑acute and long‑term care settings. Breakfast and refreshments will be served.
URL:https://ltcpharmacysummit.com/event/2026-breakfast-product-theater/
LOCATION:Aria Resort & Casino\, 3730 South Las Vegas Boulevard\, Las Vegas\, NV\, 89158\, United States
CATEGORIES:2026 LTC Pharmacy Summit
END:VEVENT
END:VCALENDAR